BEGIN:VCALENDAR
VERSION:2.0
PRODID:-//SOCA - ECPv6.15.20//NONSGML v1.0//EN
CALSCALE:GREGORIAN
METHOD:PUBLISH
X-WR-CALNAME:SOCA
X-ORIGINAL-URL:https://www.onesoca.com
X-WR-CALDESC:Events for SOCA
REFRESH-INTERVAL;VALUE=DURATION:PT1H
X-Robots-Tag:noindex
X-PUBLISHED-TTL:PT1H
BEGIN:VTIMEZONE
TZID:America/Toronto
BEGIN:DAYLIGHT
TZOFFSETFROM:-0500
TZOFFSETTO:-0400
TZNAME:EDT
DTSTART:20240310T070000
END:DAYLIGHT
BEGIN:STANDARD
TZOFFSETFROM:-0400
TZOFFSETTO:-0500
TZNAME:EST
DTSTART:20241103T060000
END:STANDARD
BEGIN:DAYLIGHT
TZOFFSETFROM:-0500
TZOFFSETTO:-0400
TZNAME:EDT
DTSTART:20250309T070000
END:DAYLIGHT
BEGIN:STANDARD
TZOFFSETFROM:-0400
TZOFFSETTO:-0500
TZNAME:EST
DTSTART:20251102T060000
END:STANDARD
BEGIN:DAYLIGHT
TZOFFSETFROM:-0500
TZOFFSETTO:-0400
TZNAME:EDT
DTSTART:20260308T070000
END:DAYLIGHT
BEGIN:STANDARD
TZOFFSETFROM:-0400
TZOFFSETTO:-0500
TZNAME:EST
DTSTART:20261101T060000
END:STANDARD
END:VTIMEZONE
BEGIN:VEVENT
DTSTART;TZID=America/Toronto:20251102T083000
DTEND;TZID=America/Toronto:20251102T170000
DTSTAMP:20260420T181743
CREATED:20251023T161605Z
LAST-MODIFIED:20251023T161605Z
UID:798-1762072200-1762102800@www.onesoca.com
SUMMARY:S.O.C.A. ON DE RUN!!! - 5K Run/Walk Event
DESCRIPTION:This eye-catching promotional poster features bold purple and yellow/gold colors with a grunge texture effect. The design showcases silhouettes of runners in dynamic motion against the vibrant background. \nEvent Details: \n\nEvent: 5K Run/Walk celebrating Caribbean culture\nDate: Sunday\, November 2\, 2025\nLocation: 220 Yonge Street\, Toronto\nWarm-up: 8:30 AM\nRun Start: 9:30 AM\nRegistration: Free per participant\n\nTheme: “Caribbean culture in motion—wear your mas and run/walk 5K through Toronto!” \nThe poster includes a small map showing the route through downtown Toronto\, with the course marked in orange. The event is organized by SOCA (Spirit of Caribbean Arts) and sponsored by Sharp Bus Lines Limited. \nContact Information: \n\nWebsite: www.onesoca.com\nSocial media handles: @one_soca @caribellamas @adam.aanthony\n\nThe design effectively captures the energetic\, festive spirit of Caribbean carnival culture combined with an active running event\, encouraging participants to dress in traditional “mas” (masquerade) costumes while completing the 5K route.
URL:https://www.onesoca.com/event/s-o-c-a-on-de-run-5k-run-walk-event/
LOCATION:Ontario
ATTACH;FMTTYPE=image/jpeg:https://www.onesoca.com/wp-content/uploads/2025/10/soca-3.jpg
END:VEVENT
BEGIN:VEVENT
DTSTART;TZID=America/Toronto:20250813T080000
DTEND;TZID=America/Toronto:20250830T170000
DTSTAMP:20260420T181743
CREATED:20250817T185008Z
LAST-MODIFIED:20251023T161140Z
UID:681-1755072000-1756573200@www.onesoca.com
SUMMARY:Back to School Donation Drive
DESCRIPTION:SOCASpirit of Caribbean Arts \nBack to School Donation Drive \nCollection of backpacks and school supplies from August 14th until August 30th\, 2025 \nHelp donate school supplies for children in our community (from SK to High-School) \n\nDrop Off Location:TWILIGHT RESTAURANT & LOUNGE55 Nugget Avenue\, Scarborough \nOR \nSponsor a Backpack: \n\n\n$35 fills a backpack \n\n\n$105 provides 3 backpacks \n\n\n$175 fills 5 backpacks \n\n\n$3500 sponsors 100 backpacks \n\n\n\nWe are collecting:Quality backpacks\, pencils\, paper\, highlighters\, glue sticks\, folders\, composition books\, tape\, notebooks\, binders\, rulers\, crayons\, calculators\, washable markers\, pens\, pencil crayons\, scissors\, lunch kits\, USB sticks\, water bottles\, zipper binders\, etc. \n\nTo register\, donate or sponsor:Please email: spiritofcaribbeanarts@gmail.com \n\nCommunity Back to School Backpack Giveaway!! \nSaturday August 30th\, 2025Giving out free backpacks & all school supply donations \nAt “ALLEGIANCE” T&T INDEPENDENCE BLOCKOLocation: Silhouettes Panyard – 156 Commander Blvd\, ScarboroughOne backpack per student while quantities last – Registration is required.
URL:https://www.onesoca.com/event/681/
LOCATION:Ontario
ATTACH;FMTTYPE=image/jpeg:https://www.onesoca.com/wp-content/uploads/2025/08/soca-2.jpg
END:VEVENT
BEGIN:VEVENT
DTSTART;VALUE=DATE:20250801
DTEND;VALUE=DATE:20250802
DTSTAMP:20260420T181743
CREATED:20250708T043739Z
LAST-MODIFIED:20250708T043908Z
UID:608-1754006400-1754092799@www.onesoca.com
SUMMARY:Emancipation March
DESCRIPTION:
URL:https://www.onesoca.com/event/emancipation-march/
LOCATION:Ontario
END:VEVENT
BEGIN:VEVENT
DTSTART;VALUE=DATE:20250630
DTEND;VALUE=DATE:20250712
DTSTAMP:20260420T181743
CREATED:20250614T000518Z
LAST-MODIFIED:20251023T161920Z
UID:301-1751241600-1752278399@www.onesoca.com
SUMMARY:S.O.C.A. Kids Club – Carnival Costume Camp
DESCRIPTION:  \nS.O.C.A. Kids Club – Carnival Costume Camp\nPresented by Spirit of Caribbean Arts & Tropicana Community Services \nUnleash your child’s creativity this summer with our vibrant Mas Camp & Mini-Carnival experience! Through music\, dance\, costume-making\, and Caribbean traditions\, kids will explore their roots and shine in a joyful celebration of culture and community. \n\n✂️ 2 Exciting Weeks to Choose From:\n\n\nWeek 1: June 30 – July 4\, 2025 — $160 \n\n\nWeek 2: July 7 – July 11\, 2025 — $185 \n\n\nEach week ends with a Mini-Carnival Parade where campers showcase their creations! \n\n🌟 Why Join?\n\n\nLearn steelpan\, dance\, drumming\, and costume design \n\n\nBuild confidence and teamwork \n\n\nCelebrate Caribbean culture in fun\, interactive ways \n\n\nOpen to children ages
URL:https://www.onesoca.com/event/spirit-of-caribbean-arts/
LOCATION:TROPICANA COMMUNITY SERVICES\, 1385 Huntingwood Dr\, Scarborough\, Ontario\, M1S 3J1\, Canada
ATTACH;FMTTYPE=image/jpeg:https://www.onesoca.com/wp-content/uploads/2025/06/soca-4.jpg
END:VEVENT
END:VCALENDAR